BEGIN:VCALENDAR
VERSION:2.0
PRODID:spatie/icalendar-generator
DESCRIPTION:Veranstaltungen von Kirche4Ort
X-WR-CALDESC:Veranstaltungen von Kirche4Ort
REFRESH-INTERVAL;VALUE=DURATION:PT1440M
X-PUBLISHED-TTL:PT1440M
BEGIN:VTIMEZONE
TZID:Etc/GMT+0
BEGIN:STANDARD
DTSTART:20230619T060000Z
TZOFFSETFROM:+0000
TZOFFSETTO:+0000
END:STANDARD
END:VTIMEZONE
BEGIN:VTIMEZONE
TZID:UTC
BEGIN:STANDARD
DTSTART:20250723T174923Z
TZOFFSETFROM:+0000
TZOFFSETTO:+0000
END:STANDARD
END:VTIMEZONE
BEGIN:VEVENT
UID:93-92
DTSTAMP:20260419T174923Z
SUMMARY:Kirche und Croissants
LOCATION:St.-Andreas-Kirche in Velpke   Velpke
ORGANIZER;CN=ryppo:MAILTO:42@it-happens.de
DTSTART;TZID=Etc/GMT+0:20240315T060000
DTEND;TZID=Etc/GMT+0:20240315T070000
X-ALT-DESC;FMTTYPE=TEXT/HTML:Siehe Allterbote Seite 28
CATEGORIES:Gottesdienst
URL;VALUE=URI:https://ev-kirchengemeinde-velpke.de/mc-events/kirche-und-cro
 issants-2
METHOD:PUBLISH
END:VEVENT
END:VCALENDAR