BEGIN:VCALENDAR
VERSION:2.0
PRODID:spatie/icalendar-generator
DESCRIPTION:Veranstaltungen von Kirche4Ort
X-WR-CALDESC:Veranstaltungen von Kirche4Ort
REFRESH-INTERVAL;VALUE=DURATION:PT1440M
X-PUBLISHED-TTL:PT1440M
BEGIN:VTIMEZONE
TZID:Etc/GMT+0
BEGIN:STANDARD
DTSTART:20240717T133000Z
TZOFFSETFROM:+0000
TZOFFSETTO:+0000
END:STANDARD
END:VTIMEZONE
BEGIN:VTIMEZONE
TZID:UTC
BEGIN:STANDARD
DTSTART:20250723T092955Z
TZOFFSETFROM:+0000
TZOFFSETTO:+0000
END:STANDARD
END:VTIMEZONE
BEGIN:VEVENT
UID:222-219
DTSTAMP:20260419T092955Z
SUMMARY:Andacht zur Grenzöffnung zw. Döhren und Mackendorf
LOCATION:Zwischen Döhren und Mackendorf
ORGANIZER;CN=ryppo:MAILTO:42@it-happens.de
DTSTART;TZID=Etc/GMT+0:20250413T133000
DTEND;TZID=Etc/GMT+0:20250413T143000
X-ALT-DESC;FMTTYPE=TEXT/HTML:Palmsonntag
CATEGORIES:Gottesdienst
URL;VALUE=URI:https://ev-kirchengemeinde-velpke.de/mc-events/andacht-zur-gr
 enzoeffnung-zw-doehren-und-mackendorf
METHOD:PUBLISH
END:VEVENT
END:VCALENDAR