BEGIN:VCALENDAR
VERSION:2.0
PRODID:spatie/icalendar-generator
DESCRIPTION:Veranstaltungen von Kirche4Ort
X-WR-CALDESC:Veranstaltungen von Kirche4Ort
REFRESH-INTERVAL;VALUE=DURATION:PT1440M
X-PUBLISHED-TTL:PT1440M
BEGIN:VTIMEZONE
TZID:Etc/GMT+0
BEGIN:STANDARD
DTSTART:20240310T180000Z
TZOFFSETFROM:+0000
TZOFFSETTO:+0000
END:STANDARD
END:VTIMEZONE
BEGIN:VTIMEZONE
TZID:UTC
BEGIN:STANDARD
DTSTART:20250725T095654Z
TZOFFSETFROM:+0000
TZOFFSETTO:+0000
END:STANDARD
END:VTIMEZONE
BEGIN:VEVENT
UID:180-178
DTSTAMP:20260421T095654Z
SUMMARY:Advent im Wendehammer
LOCATION:
ORGANIZER;CN=ryppo:MAILTO:42@it-happens.de
DTSTART;TZID=Etc/GMT+0:20241205T180000
DTEND;TZID=Etc/GMT+0:20241205T190000
X-ALT-DESC;FMTTYPE=TEXT/HTML:vor Wetzsteinring 48\, siehe Allerbote 120\, S
 eite 18
CATEGORIES:Veranstaltung
URL;VALUE=URI:https://ev-kirchengemeinde-velpke.de/mc-events/advent-im-wend
 ehammer-2
METHOD:PUBLISH
END:VEVENT
END:VCALENDAR